BEGIN:VCALENDAR
VERSION:2.0
PRODID:www.rabobankpersoneelsverenigingen.nl
METHOD:PUBLISH
BEGIN:VEVENT
UID:69e8cce7d113d
DTSTART:20230426T070100Z
SEQUENCE:0
TRANSP:OPAQUE
DTEND:20230426T100100Z
URL:https://staging.rabobankpersoneelsverenigingen.nl/afdeling-eindhoven/ac
 tiviteiten/test-4
LOCATION:Eindhoven\, Nederland
SUMMARY:Test
CLASS:PUBLIC
DESCRIPTION:https://staging.rabobankpersoneelsverenigingen.nl/afdeling-eind
 hoven/activiteiten/test-4
DTSTAMP:20260422T132807Z
END:VEVENT
END:VCALENDAR