BEGIN:VCALENDAR
VERSION:2.0
PRODID:www.rabobankpersoneelsverenigingen.nl
METHOD:PUBLISH
BEGIN:VEVENT
UID:69e8cc85713b6
DTSTART:20230503T040000Z
SEQUENCE:0
TRANSP:OPAQUE
DTEND:20230517T043100Z
URL:https://staging.rabobankpersoneelsverenigingen.nl/afdeling-eindhoven/ac
 tiviteiten/test-5
LOCATION:N\, Nederland
SUMMARY:test
CLASS:PUBLIC
DESCRIPTION:https://staging.rabobankpersoneelsverenigingen.nl/afdeling-eind
 hoven/activiteiten/test-5
DTSTAMP:20260422T132629Z
END:VEVENT
END:VCALENDAR