BEGIN:VCALENDAR
VERSION:2.0
PRODID:www.rabobankpersoneelsverenigingen.nl
METHOD:PUBLISH
BEGIN:VEVENT
UID:69e8cc46e6afb
DTSTART:20191207T110000Z
SEQUENCE:0
TRANSP:OPAQUE
DTEND:20191207T110000Z
URL:https://staging.rabobankpersoneelsverenigingen.nl/breda/activiteiten/da
 gje-efteling
LOCATION:Efteling\, Gardameer 32\, 3446JV Woerden\, Nederland
SUMMARY:Dagje Efteling
CLASS:PUBLIC
DESCRIPTION:https://staging.rabobankpersoneelsverenigingen.nl/breda/activit
 eiten/dagje-efteling
DTSTAMP:20260422T132526Z
END:VEVENT
END:VCALENDAR