BEGIN:VCALENDAR
VERSION:2.0
PRODID:www.rabobankpersoneelsverenigingen.nl
METHOD:PUBLISH
BEGIN:VEVENT
UID:69e8cff1c20ea
DTSTART:20191025T100000Z
SEQUENCE:0
TRANSP:OPAQUE
DTEND:20191025T100000Z
URL:https://staging.rabobankpersoneelsverenigingen.nl/breda/activiteiten/lo
 pen-door-de-bossen
LOCATION:Veluwe\, Veluwemeer 1\, 1111AA Epe\, Nederland
SUMMARY:Lopen door de bossen
CLASS:PUBLIC
DESCRIPTION:https://staging.rabobankpersoneelsverenigingen.nl/breda/activit
 eiten/lopen-door-de-bossen
DTSTAMP:20260422T134105Z
END:VEVENT
END:VCALENDAR