BEGIN:VCALENDAR
VERSION:2.0
PRODID:www.rabobankpersoneelsverenigingen.nl
METHOD:PUBLISH
BEGIN:VEVENT
UID:69e8d2ea6ff57
DTSTART:20220608T100000Z
SEQUENCE:0
TRANSP:OPAQUE
DTEND:20220630T100000Z
URL:https://staging.rabobankpersoneelsverenigingen.nl/personeelsvereniging-
 rabo-test2/activiteiten/test-3
LOCATION:Test\, Nederland
SUMMARY:Test
CLASS:PUBLIC
DESCRIPTION:https://staging.rabobankpersoneelsverenigingen.nl/personeelsver
 eniging-rabo-test2/activiteiten/test-3
DTSTAMP:20260422T135346Z
END:VEVENT
END:VCALENDAR