BEGIN:VCALENDAR
VERSION:2.0
PRODID:www.rabobankpersoneelsverenigingen.nl
METHOD:PUBLISH
BEGIN:VEVENT
UID:69e8d19118f0b
DTSTART:20230430T100000Z
SEQUENCE:0
TRANSP:OPAQUE
DTEND:20230430T140000Z
URL:https://staging.rabobankpersoneelsverenigingen.nl/personeelsvereniging-
 rabo-test2/activiteiten/test-jan
LOCATION:zell am See\, Esplanade 4-6\, 5700 Zell am See\, Oostenrijk
SUMMARY:Test Jan
CLASS:PUBLIC
DESCRIPTION:https://staging.rabobankpersoneelsverenigingen.nl/personeelsver
 eniging-rabo-test2/activiteiten/test-jan
DTSTAMP:20260422T134801Z
END:VEVENT
END:VCALENDAR