BEGIN:VCALENDAR
VERSION:2.0
PRODID:www.rabobankpersoneelsverenigingen.nl
METHOD:PUBLISH
BEGIN:VEVENT
UID:69e8d1e8e0547
DTSTART:20191130T090000Z
SEQUENCE:0
TRANSP:OPAQUE
DTEND:20191130T110000Z
URL:https://staging.rabobankpersoneelsverenigingen.nl/personeelsvereniging-
 rabobank-utrecht-e-o-test/activiteiten/reglement-sinterklaasfeest-2019
LOCATION:Stadstheater de Kom\, Stadsplein 6 3431 LZ Nieuwegein\, 3431LZ Nie
 uwegein\, Nederland
SUMMARY:Reglement Sinterklaasfeest 2019
CLASS:PUBLIC
DESCRIPTION:https://staging.rabobankpersoneelsverenigingen.nl/personeelsver
 eniging-rabobank-utrecht-e-o-test/activiteiten/reglement-sinterklaasfeest-
 2019
DTSTAMP:20260422T134928Z
END:VEVENT
END:VCALENDAR