BEGIN:VCALENDAR
VERSION:2.0
PRODID:www.rabobankpersoneelsverenigingen.nl
METHOD:PUBLISH
BEGIN:VEVENT
UID:69e8cf8581169
DTSTART:20200807T100000Z
SEQUENCE:0
TRANSP:OPAQUE
DTEND:20200917T100000Z
URL:https://staging.rabobankpersoneelsverenigingen.nl/test/activiteiten/aaa
 aaaaaaaaaaaaaaaaaaaaaaaaaaaaaaaaaaaaaaaaaa
LOCATION:akdjkasjdk\, aksjdksajdkjsak\, kasjdkasjdk ksajdkasjdk\, aksjdksaj
SUMMARY:aaaaaaaaaaaaaaaaaaaaaaaaaaaaaaaaaaaaaaaaaaaaa
CLASS:PUBLIC
DESCRIPTION:https://staging.rabobankpersoneelsverenigingen.nl/test/activite
 iten/aaaaaaaaaaaaaaaaaaaaaaaaaaaaaaaaaaaaaaaaaaaaa
DTSTAMP:20260422T133917Z
END:VEVENT
END:VCALENDAR