BEGIN:VCALENDAR
VERSION:2.0
PRODID:www.rabobankpersoneelsverenigingen.nl
METHOD:PUBLISH
BEGIN:VEVENT
UID:69e8d0539a78c
DTSTART:20210409T040000Z
SEQUENCE:0
TRANSP:OPAQUE
DTEND:20210409T200000Z
URL:https://staging.rabobankpersoneelsverenigingen.nl/test/activiteiten/dag
 je-uitwaaien-op-ameland
LOCATION:Ameland -Friesland-\, Nederland
SUMMARY:Dagje Uitwaaien op Ameland
CLASS:PUBLIC
DESCRIPTION:https://staging.rabobankpersoneelsverenigingen.nl/test/activite
 iten/dagje-uitwaaien-op-ameland
DTSTAMP:20260422T134243Z
END:VEVENT
END:VCALENDAR