BEGIN:VCALENDAR
VERSION:2.0
PRODID:www.rabobankpersoneelsverenigingen.nl
METHOD:PUBLISH
BEGIN:VEVENT
UID:69e8ce4869d9d
DTSTART:20200303T110000Z
SEQUENCE:0
TRANSP:OPAQUE
DTEND:20200303T160000Z
URL:https://staging.rabobankpersoneelsverenigingen.nl/test/activiteiten/hee
 l-leuk-uitje
LOCATION:Utrecht\, Polderweg 2\, 3521CB Utrecht\, Nederland
SUMMARY:heel leuk uitje
CLASS:PUBLIC
DESCRIPTION:https://staging.rabobankpersoneelsverenigingen.nl/test/activite
 iten/heel-leuk-uitje
DTSTAMP:20260422T133400Z
END:VEVENT
END:VCALENDAR