BEGIN:VCALENDAR
VERSION:2.0
PRODID:www.rabobankpersoneelsverenigingen.nl
METHOD:PUBLISH
BEGIN:VEVENT
UID:69e8cfd2c8c41
DTSTART:20191223T110000Z
SEQUENCE:0
TRANSP:OPAQUE
DTEND:20191230T110000Z
URL:https://staging.rabobankpersoneelsverenigingen.nl/test/activiteiten/hel
 emaal-leuk
LOCATION:HOUTEN\, Nederland
SUMMARY:helemaal leuk
CLASS:PUBLIC
DESCRIPTION:https://staging.rabobankpersoneelsverenigingen.nl/test/activite
 iten/helemaal-leuk
DTSTAMP:20260422T134034Z
END:VEVENT
END:VCALENDAR