BEGIN:VCALENDAR
VERSION:2.0
PRODID:www.rabobankpersoneelsverenigingen.nl
METHOD:PUBLISH
BEGIN:VEVENT
UID:69e8ce3d36b78
DTSTART:20191220T130000Z
SEQUENCE:0
TRANSP:OPAQUE
DTEND:20200730T160000Z
URL:https://staging.rabobankpersoneelsverenigingen.nl/test/activiteiten/lop
 en-door-de-bossen-1
LOCATION:Het grote enge bos\, Croeselaan 18\, 3521CB Utrecht\, Nederland
SUMMARY:Lopen door de bossen
CLASS:PUBLIC
DESCRIPTION:https://staging.rabobankpersoneelsverenigingen.nl/test/activite
 iten/lopen-door-de-bossen-1
DTSTAMP:20260422T133349Z
END:VEVENT
END:VCALENDAR