BEGIN:VCALENDAR
VERSION:2.0
PRODID:www.rabobankpersoneelsverenigingen.nl
METHOD:PUBLISH
BEGIN:VEVENT
UID:69e8e247c0f0e
DTSTART:20210408T100000Z
SEQUENCE:0
TRANSP:OPAQUE
DTEND:20210409T100000Z
URL:https://staging.rabobankpersoneelsverenigingen.nl/test/activiteiten/tes
 t-1
LOCATION:Rabobank\, Fellenoord 17\, 5612 AA Eindhoven\, Nederland
SUMMARY:test
CLASS:PUBLIC
DESCRIPTION:https://staging.rabobankpersoneelsverenigingen.nl/test/activite
 iten/test-1
DTSTAMP:20260422T145919Z
END:VEVENT
END:VCALENDAR