BEGIN:VCALENDAR
VERSION:2.0
PRODID:www.rabobankpersoneelsverenigingen.nl
METHOD:PUBLISH
BEGIN:VEVENT
UID:69e8cc612890d
DTSTART:20230501T070000Z
SEQUENCE:0
TRANSP:OPAQUE
DTEND:20230501T090000Z
URL:https://staging.rabobankpersoneelsverenigingen.nl/test/activiteiten/tes
 t-2
LOCATION:Utrecht\, Nederland
SUMMARY:Tëst
CLASS:PUBLIC
DESCRIPTION:https://staging.rabobankpersoneelsverenigingen.nl/test/activite
 iten/test-2
DTSTAMP:20260422T132553Z
END:VEVENT
END:VCALENDAR