BEGIN:VCALENDAR
VERSION:2.0
PRODID:www.rabobankpersoneelsverenigingen.nl
METHOD:PUBLISH
BEGIN:VEVENT
UID:69e8cc8c29146
DTSTART:20240427T100000Z
SEQUENCE:0
TRANSP:OPAQUE
DTEND:20240428T100000Z
URL:https://staging.rabobankpersoneelsverenigingen.nl/test/activiteiten/tes
 t-6
LOCATION:Horst\, Nederland
SUMMARY:tëst
CLASS:PUBLIC
DESCRIPTION:https://staging.rabobankpersoneelsverenigingen.nl/test/activite
 iten/test-6
DTSTAMP:20260422T132636Z
END:VEVENT
END:VCALENDAR