BEGIN:VCALENDAR
VERSION:2.0
PRODID:www.rabobankpersoneelsverenigingen.nl
METHOD:PUBLISH
BEGIN:VEVENT
UID:69e8cd05c5f69
DTSTART:20191218T110000Z
SEQUENCE:0
TRANSP:OPAQUE
DTEND:20191219T110000Z
URL:https://staging.rabobankpersoneelsverenigingen.nl/test/activiteiten/tes
 t-aanmeld
LOCATION:test\, tes
SUMMARY:test-aanmeld
CLASS:PUBLIC
DESCRIPTION:https://staging.rabobankpersoneelsverenigingen.nl/test/activite
 iten/test-aanmeld
DTSTAMP:20260422T132837Z
END:VEVENT
END:VCALENDAR