BEGIN:VCALENDAR
VERSION:2.0
PRODID:www.rabobankpersoneelsverenigingen.nl
METHOD:PUBLISH
BEGIN:VEVENT
UID:69e8cb170caa7
DTSTART:20200608T100000Z
SEQUENCE:0
TRANSP:OPAQUE
DTEND:20200608T100000Z
URL:https://staging.rabobankpersoneelsverenigingen.nl/test/activiteiten/tes
 t-activiteit-lotterij
LOCATION:test\, Utrecht\, NEDERLAND
SUMMARY:TEST ACTIVITEIT LOTTERIJ
CLASS:PUBLIC
DESCRIPTION:https://staging.rabobankpersoneelsverenigingen.nl/test/activite
 iten/test-activiteit-lotterij
DTSTAMP:20260422T132023Z
END:VEVENT
END:VCALENDAR