BEGIN:VCALENDAR
VERSION:2.0
PRODID:www.rabobankpersoneelsverenigingen.nl
METHOD:PUBLISH
BEGIN:VEVENT
UID:69e8cfc366eb6
DTSTART:20200711T100000Z
SEQUENCE:0
TRANSP:OPAQUE
DTEND:20200711T160000Z
URL:https://staging.rabobankpersoneelsverenigingen.nl/test/activiteiten/tes
 t-activiteit-voor-bestuursvergadering
LOCATION:Thuis vanuit je luie stoel :-)\, Croeselaan 18\, Utrecht\, Utrecht
 \, Nederland
SUMMARY:Test activiteit voor Bestuursvergadering
CLASS:PUBLIC
DESCRIPTION:https://staging.rabobankpersoneelsverenigingen.nl/test/activite
 iten/test-activiteit-voor-bestuursvergadering
DTSTAMP:20260422T134019Z
END:VEVENT
END:VCALENDAR