BEGIN:VCALENDAR
VERSION:2.0
PRODID:www.rabobankpersoneelsverenigingen.nl
METHOD:PUBLISH
BEGIN:VEVENT
UID:69e8cfc94faf1
DTSTART:20210816T100000Z
SEQUENCE:0
TRANSP:OPAQUE
DTEND:20210821T100000Z
URL:https://staging.rabobankpersoneelsverenigingen.nl/test/activiteiten/tes
 t-activiteit
LOCATION:Rabobank\, Nederland
SUMMARY:Test activiteit
CLASS:PUBLIC
DESCRIPTION:https://staging.rabobankpersoneelsverenigingen.nl/test/activite
 iten/test-activiteit
DTSTAMP:20260422T134025Z
END:VEVENT
END:VCALENDAR