BEGIN:VCALENDAR
VERSION:2.0
PRODID:www.rabobankpersoneelsverenigingen.nl
METHOD:PUBLISH
BEGIN:VEVENT
UID:69e8d01060c39
DTSTART:20200711T100000Z
SEQUENCE:0
TRANSP:OPAQUE
DTEND:20200711T140000Z
URL:https://staging.rabobankpersoneelsverenigingen.nl/test/activiteiten/tes
 t-bestuursvergadering-6-juli-2020
LOCATION:Thuis (vanuit je luie stoel)\, Utrecht\, Nederland
SUMMARY:Test Bestuursvergadering 6 juli 2020
CLASS:PUBLIC
DESCRIPTION:https://staging.rabobankpersoneelsverenigingen.nl/test/activite
 iten/test-bestuursvergadering-6-juli-2020
DTSTAMP:20260422T134136Z
END:VEVENT
END:VCALENDAR