BEGIN:VCALENDAR
VERSION:2.0
PRODID:www.rabobankpersoneelsverenigingen.nl
METHOD:PUBLISH
BEGIN:VEVENT
UID:69e8cbc14fe29
DTSTART:20200101T110000Z
SEQUENCE:0
TRANSP:OPAQUE
DTEND:20200118T110000Z
URL:https://staging.rabobankpersoneelsverenigingen.nl/test/activiteiten/tes
 t-edge
LOCATION:Utrecht\, Nederland
SUMMARY:test-Edge
CLASS:PUBLIC
DESCRIPTION:https://staging.rabobankpersoneelsverenigingen.nl/test/activite
 iten/test-edge
DTSTAMP:20260422T132313Z
END:VEVENT
END:VCALENDAR