BEGIN:VCALENDAR
VERSION:2.0
PRODID:www.rabobankpersoneelsverenigingen.nl
METHOD:PUBLISH
BEGIN:VEVENT
UID:69e8cbf467ad0
DTSTART:20200101T110000Z
SEQUENCE:0
TRANSP:OPAQUE
DTEND:20200116T110000Z
URL:https://staging.rabobankpersoneelsverenigingen.nl/test/activiteiten/tes
 t-edge2
LOCATION:Rotterdam\, nederland
SUMMARY:test Edge2
CLASS:PUBLIC
DESCRIPTION:https://staging.rabobankpersoneelsverenigingen.nl/test/activite
 iten/test-edge2
DTSTAMP:20260422T132404Z
END:VEVENT
END:VCALENDAR