BEGIN:VCALENDAR
VERSION:2.0
PRODID:www.rabobankpersoneelsverenigingen.nl
METHOD:PUBLISH
BEGIN:VEVENT
UID:69e8cbc14fed8
DTSTART:20230619T140900Z
SEQUENCE:0
TRANSP:OPAQUE
DTEND:20230619T180000Z
URL:https://staging.rabobankpersoneelsverenigingen.nl/test/activiteiten/tes
 t-els-uitje
LOCATION:Londen\, Buckingham Palace\, 888 Londen\, Engeland
SUMMARY:Test Els: Uitje
CLASS:PUBLIC
DESCRIPTION:https://staging.rabobankpersoneelsverenigingen.nl/test/activite
 iten/test-els-uitje
DTSTAMP:20260422T132313Z
END:VEVENT
END:VCALENDAR