BEGIN:VCALENDAR
VERSION:2.0
PRODID:www.rabobankpersoneelsverenigingen.nl
METHOD:PUBLISH
BEGIN:VEVENT
UID:69e8cce24bbc8
DTSTART:20200501T100000Z
SEQUENCE:0
TRANSP:OPAQUE
DTEND:20200515T100000Z
URL:https://staging.rabobankpersoneelsverenigingen.nl/test/activiteiten/tes
 t-nieuwe-activiteit
LOCATION:brussel\, belgie
SUMMARY:Test nieuwe activiteit
CLASS:PUBLIC
DESCRIPTION:https://staging.rabobankpersoneelsverenigingen.nl/test/activite
 iten/test-nieuwe-activiteit
DTSTAMP:20260422T132802Z
END:VEVENT
END:VCALENDAR