BEGIN:VCALENDAR
VERSION:2.0
PRODID:www.rabobankpersoneelsverenigingen.nl
METHOD:PUBLISH
BEGIN:VEVENT
UID:69e8cc476fc0a
DTSTART:20201205T110000Z
SEQUENCE:0
TRANSP:OPAQUE
DTEND:20201205T150000Z
URL:https://staging.rabobankpersoneelsverenigingen.nl/test/activiteiten/tes
 t-peter
LOCATION:Utrecht\, Croeselaan\, Nl
SUMMARY:Test Peter
CLASS:PUBLIC
DESCRIPTION:https://staging.rabobankpersoneelsverenigingen.nl/test/activite
 iten/test-peter
DTSTAMP:20260422T132527Z
END:VEVENT
END:VCALENDAR