BEGIN:VCALENDAR
VERSION:2.0
PRODID:www.rabobankpersoneelsverenigingen.nl
METHOD:PUBLISH
BEGIN:VEVENT
UID:69e8cb7d1855f
DTSTART:20191218T110000Z
SEQUENCE:0
TRANSP:OPAQUE
DTEND:20191219T110000Z
URL:https://staging.rabobankpersoneelsverenigingen.nl/test/activiteiten/tes
 t1
LOCATION:test\, test
SUMMARY:test1
CLASS:PUBLIC
DESCRIPTION:https://staging.rabobankpersoneelsverenigingen.nl/test/activite
 iten/test1
DTSTAMP:20260422T132205Z
END:VEVENT
END:VCALENDAR