BEGIN:VCALENDAR
VERSION:2.0
PRODID:www.rabobankpersoneelsverenigingen.nl
METHOD:PUBLISH
BEGIN:VEVENT
UID:69e8cbd59a15c
DTSTART:20191218T110000Z
SEQUENCE:0
TRANSP:OPAQUE
DTEND:20191218T110000Z
URL:https://staging.rabobankpersoneelsverenigingen.nl/test/activiteiten/tes
 t2
LOCATION:test\, test
SUMMARY:test2
CLASS:PUBLIC
DESCRIPTION:https://staging.rabobankpersoneelsverenigingen.nl/test/activite
 iten/test2
DTSTAMP:20260422T132333Z
END:VEVENT
END:VCALENDAR